BEGIN:VCALENDAR
VERSION:2.0
PRODID:-//ChamberMaster//Event Calendar 2.0//EN
METHOD:PUBLISH
X-PUBLISHED-TTL:P3D
REFRESH-INTERVAL:P3D
CALSCALE:GREGORIAN
BEGIN:VEVENT
DTSTART:20240614T200000Z
DTEND:20240615T000000Z
X-MICROSOFT-CDO-ALLDAYEVENT:FALSE
SUMMARY:Annual Charleswood Lobsterfest
DESCRIPTION:The Rotary Club of Winnipeg Charleswood is holding its annual Lobsterfest\n\non Friday\, June 14\, 2024. Lobster and chicken meals will be provided on a curbside pickup basis. We encourage participants to plan an event with friends and family\, to celebrate and contribute to this important annual fundraiser.\n\n\n\nPick-up - meals may be picked up at the Varsity View Community Centre\, 315 Laxdal Rd. on Friday\, June 14 from 3-7 pm. Participants must present a ticket or confirmation of an online purchase. The meal is already cooked\, ready to warm up at home.\n\n\n\nHow to Register? - Rotary club members will be selling tickets in the community. Alternatively\, individuals may purchase an online ticket and pay by credit card or by e-transfer. The deadline for registration is June 9 at 12. Click Here: https://portal.clubrunner.ca/1000/Stories/annual-\n\nlobsterfest-friday-june-14-2024 to purchase online. \n\n\n\nQuestions?\n\nOnline tickets: Glenn Campbell at rglenncampbell@gmail.com or 204-915-5062. Tickets from Rotary Club members: Cathy Skene at cathy.skene@gmail.com or 204-294-1359
X-ALT-DESC;FMTTYPE=text/html:<p>The Rotary Club of Winnipeg Charleswood is holding its annual Lobsterfest<br />\non Friday\, June 14\, 2024. Lobster and chicken meals will be provided on a curbside pickup basis. We encourage participants to plan an event with friends and family\, to celebrate and contribute to this important annual fundraiser.<br />\n<br />\n<strong>Pick-up</strong> - meals may be picked up at the Varsity View Community Centre\, 315 Laxdal Rd. on Friday\, June 14 from 3-7 pm. Participants must present a ticket or confirmation of an online purchase. The meal is already cooked\, ready to warm up at home.<br />\n<br />\n<strong>How to Register?</strong> - Rotary club members will be selling tickets in the community. Alternatively\, individuals may purchase an online ticket and pay by credit card or by e-transfer. The deadline for registration is June 9 at 12. Click Here: <a href="https://portal.clubrunner.ca/1000/Stories/annual- lobsterfest-friday-june-14-2024" onclick="window.open(this.href\, ''\, 'resizable=yes\,status=no\,location=no\,toolbar=no\,menubar=no\,fullscreen=no\,scrollbars=no\,dependent=no')\; return false\;">https://portal.clubrunner.ca/1000/Stories/annual-<br />\nlobsterfest-friday-june-14-2024</a> to purchase online.&nbsp\;<br />\n<br />\n<strong>Questions?</strong><br />\nOnline tickets: Glenn Campbell at <a href="mailto:rglenncampbell@gmail.com">rglenncampbell@gmail.com</a> or 204-915-5062. Tickets from Rotary Club members: Cathy Skene at <a href="mailto:cathy.skene@gmail.com">cathy.skene@gmail.com</a> or 204-294-1359</p>\n
LOCATION:Varsity View Community Centre 315 Laxdal Rd
UID:e.2532.489
SEQUENCE:3
DTSTAMP:20260421T160551Z
URL:https://www.assiniboiachamber.ca/events/details/annual-charleswood-lobsterfest-489
END:VEVENT

END:VCALENDAR
