BEGIN:VCALENDAR
VERSION:2.0
PRODID:-//ChamberMaster//Event Calendar 2.0//EN
METHOD:PUBLISH
X-PUBLISHED-TTL:P3D
REFRESH-INTERVAL:P3D
CALSCALE:GREGORIAN
BEGIN:VEVENT
DTSTART:20250512T163000Z
DTEND:20250512T183000Z
X-MICROSOFT-CDO-ALLDAYEVENT:FALSE
SUMMARY:AGM\, Business Excellence Awards\, and Economic Development Winnipeg
DESCRIPTION:Annual General Meeting: We will be reviewing the past year and looking forward to the future as we welcome our new board members.\n\n\n\nBusiness Excellence Awards Banquet: During lunch\, we will celebrate businesses in their achievements\, their commitment to excellence and contribution to overall economic growth of West Winnipeg. The votes are in and we are thrilled to announce the winners of this year's awards for:\n\n	Young Entrepreneur of the Year\n	EcoLeadership of the Year\n	Business of the Year\n	Non-Profit of the Year\n	Community Builder of the Year\n\nKeynote Presentation: This is a great time to get together with the business community and celebrate our success and growth here on the west side of Winnipeg. Learn more of what is happening in our community and how our businesses can support the the economic development of Winnipeg. Our keynote speaker is Ryan Kuffner\, President & CEO from Economic Development Winnipeg.
X-ALT-DESC;FMTTYPE=text/html:<strong style="color: rgb(13\, 13\, 13)\;">Annual General Meeting:</strong><span style="color: rgb(13\, 13\, 13)\;">&nbsp\;We will be reviewing the past year and looking forward to the future as we welcome our new board members.</span><br style="color: rgb(13\, 13\, 13)\;" />\n<br style="color: rgb(13\, 13\, 13)\;" />\n<strong style="color: rgb(13\, 13\, 13)\;">Business Excellence Awards Banquet:</strong><span style="color: rgb(13\, 13\, 13)\;">&nbsp\;</span><font face="Roboto\, sans-serif">During lunch\,&nbsp\;</font>we will celebrate businesses in their achievements\, their commitment to excellence and contribution to overall economic growth of West Winnipeg.&nbsp\;<span style="color: rgb(13\, 13\, 13)\;">The votes are in and we are thrilled to announce the winners of this year&#39\;s awards for:</span>\n<ol>\n	<li>Young Entrepreneur of the Year</li>\n	<li>EcoLeadership of the Year</li>\n	<li>Business of the Year</li>\n	<li>Non-Profit of the Year</li>\n	<li>Community Builder of the Year</li>\n</ol>\n<span style="font-family: Roboto\, sans-serif\;"><strong>Keynote Presentation: </strong>This is a great time to get together with the&nbsp\;business community and celebrate our success and growth here on the&nbsp\;west side of Winnipeg. Learn more of what is happening in our community and how our businesses can support the the economic development of Winnipeg. Our keynote speaker is Ryan Kuffner\, President &amp\; CEO from Economic Development Winnipeg.</span>
LOCATION:Wyndham Garden Winnipeg Airport Hotel
UID:e.2532.713
SEQUENCE:3
DTSTAMP:20260420T200915Z
URL:https://www.assiniboiachamber.ca/events/details/agm-business-excellence-awards-and-economic-development-winnipeg-713
END:VEVENT

END:VCALENDAR
