BEGIN:VCALENDAR
VERSION:2.0
PRODID:-//ChamberMaster//Event Calendar 2.0//EN
METHOD:PUBLISH
X-PUBLISHED-TTL:P3D
REFRESH-INTERVAL:P3D
CALSCALE:GREGORIAN
BEGIN:VEVENT
DTSTART:20241020T173000Z
DTEND:20241020T213000Z
X-MICROSOFT-CDO-ALLDAYEVENT:FALSE
SUMMARY:33rd Annual Guardian Angel Benefit
DESCRIPTION:Join us to indulge in premium teas and hear inspiring stories to celebrate the women you know and love who are facing or have faced a cancer diagnosis. This year's event theme is centered on the quote\, "the cures of tomorrow are rooted in the generosity of today". This event has established the roots\, let your generosity be the branches. Join us in a room of lush greenery as we celebrate the growth that you have enabled through your kindness. Purchase an individual ticket\, a table or make a donation in support. All funds raised through the Guardian Angel Benefit stay in Manitoba to help women facing a life-changing cancer diagnosis now or in the future by supporting research\, clinical trials\, as well as ensure the best possible physical and emotional care. This community is strong and together you will change the course of cancer in Manitoba.
X-ALT-DESC;FMTTYPE=text/html:Join us to indulge in premium teas and hear inspiring stories to celebrate the women you know and love who are facing or have faced a cancer diagnosis. This year&#39\;s event theme is centered on the quote\, &quot\;the cures of tomorrow are rooted in the generosity of today&quot\;. This event has established the roots\, let your generosity be the branches. Join us in a room of lush greenery as we celebrate the growth that you have enabled through your kindness. Purchase an individual ticket\, a table or make a donation in support. All funds raised through the Guardian Angel Benefit stay in Manitoba to help women facing a life-changing cancer diagnosis now or in the future by supporting research\, clinical trials\, as well as ensure the best possible physical and emotional care. This community is strong and together you will change the course of cancer in Manitoba.
LOCATION:RBC Convention Centre
UID:e.2532.509
SEQUENCE:3
DTSTAMP:20260421T064928Z
URL:https://www.assiniboiachamber.ca/events/details/33rd-annual-guardian-angel-benefit-509
END:VEVENT

END:VCALENDAR
