BEGIN:VCALENDAR
VERSION:2.0
PRODID:-//ChamberMaster//Event Calendar 2.0//EN
METHOD:PUBLISH
X-PUBLISHED-TTL:P3D
REFRESH-INTERVAL:P3D
CALSCALE:GREGORIAN
BEGIN:VEVENT
DTSTART:20211209T000000Z
DTEND:20211209T030000Z
X-MICROSOFT-CDO-ALLDAYEVENT:FALSE
SUMMARY:2021 Winter Celebration at Grace Hospital
DESCRIPTION:The 2021 Winter Celebration at Grace Hospital introduces a new twist to this annual event. On December 8\, stay warm and safe in your vehicle while you and your loved ones enjoy fireworks (courtesy of Maple Leaf Construction) and the lighting of the "Tree of Life" at 6:00pm\, and a drive-in screening of the holiday favourite\, "Elf" in the Grace parking lot with hot chocolate and cookies (courtesy of D Jay's Restaurant & Ichabod's Lounge) at 6:45pm  ALL FOR FREE! REGISTER your vehicle today to attend the movie! Limited parking spaces are available! (*Proof of adult vaccination is required.)
X-ALT-DESC;FMTTYPE=text/html:The 2021 Winter Celebration at Grace Hospital introduces a new twist to this annual event. On December 8\, stay warm and safe in your vehicle while you and your loved ones enjoy fireworks (courtesy of Maple Leaf Construction) and the lighting of the &ldquo\;Tree of Life&rdquo\; at 6:00pm\, and a drive-in screening of the holiday favourite\, &ldquo\;Elf&rdquo\; in the Grace parking lot with hot chocolate and cookies (courtesy of D Jay&#39\;s Restaurant &amp\; Ichabod&#39\;s Lounge) at 6:45pm&ndash\; ALL FOR FREE! REGISTER your vehicle today to attend the movie! Limited parking spaces are available! (*Proof of adult vaccination is required.)
LOCATION:Grace Hospital Front Parking Lot
UID:e.2532.293
SEQUENCE:3
DTSTAMP:20260423T023317Z
URL:https://www.assiniboiachamber.ca/events/details/2021-winter-celebration-at-grace-hospital-293
END:VEVENT

END:VCALENDAR
